BEGIN:VCALENDAR
VERSION:2.0
PRODID:-//Tukios.com/
BEGIN:VEVENT
UID:aad6eae3-1da1-4c7a-8458-50c71a4d53e7@www.kuhnfuneralhomes.com
DTSTAMP:20260419T192904Z
DTSTART:20260422T140000Z
DTEND:20260422T150000Z
SUMMARY:Public Viewing
DESCRIPTION:
URL:https://www.kuhnfuneralhomes.com/obituaries/leroy-l-lengel
LOCATION:St. Ignatius Loyola Roman Catholic Church 2600 St Albans Dr  
	Reading PA 19609
GEO:40.3373394;-76.0047104
END:VEVENT
END:VCALENDAR