BEGIN:VCALENDAR
VERSION:2.0
PRODID:-//Tukios.com/
BEGIN:VEVENT
UID:6999e025-271f-4636-951b-31cc75cd46aa@www.kuhnfuneralhomes.com
DTSTAMP:20260419T193536Z
DTSTART:20260422T150000Z
DTEND:20260422T160000Z
SUMMARY:Mass
DESCRIPTION:
URL:https://www.kuhnfuneralhomes.com/obituaries/leroy-l-lengel
LOCATION:St. Ignatius Loyola Roman Catholic Church 2600 St Albans Dr  
	Reading PA 19609
GEO:40.3373394;-76.0047104
END:VEVENT
END:VCALENDAR