BEGIN:VCALENDAR
VERSION:2.0
PRODID:-//Tukios.com/
BEGIN:VEVENT
UID:0b4fb8ff-42d9-42b6-a1d9-73e9caa8ed66@www.kuhnfuneralhomes.com
DTSTAMP:20260423T004849Z
DTSTART:20260612T213000Z
DTEND:20260612T223000Z
SUMMARY:Time of Sharing
DESCRIPTION:
URL:https://www.kuhnfuneralhomes.com/obituaries/kathleen-marie-jacobs
LOCATION: 739 Penn Ave  West Reading PA 19611
GEO:40.3361933;-75.9533547
END:VEVENT
END:VCALENDAR