BEGIN:VCALENDAR
VERSION:2.0
PRODID:-//Tukios.com/
BEGIN:VEVENT
UID:56865f5b-468d-4e80-a12c-d0fe0bb9b1c6@www.kuhnfuneralhomes.com
DTSTAMP:20260421T165108Z
DTSTART:20260429T140000Z
DTEND:20260429T150000Z
SUMMARY:Visitation
DESCRIPTION:
URL:https://www.kuhnfuneralhomes.com/obituaries/karl-eugene-beard
LOCATION:St. Benedict Church 2020 Chestnut Hill Road  Mohnton PA 19540
GEO:40.2076917;-75.9108478
END:VEVENT
END:VCALENDAR