BEGIN:VCALENDAR
VERSION:2.0
PRODID:-//Tukios.com/
BEGIN:VEVENT
UID:9bae80ec-7df4-4fc9-83e2-2ffb0ad70109@www.kuhnfuneralhomes.com
DTSTAMP:20260421T164839Z
DTSTART:20260429T150000Z
DTEND:20260429T160000Z
SUMMARY:Mass
DESCRIPTION:
URL:https://www.kuhnfuneralhomes.com/obituaries/karl-eugene-beard
LOCATION:St. Benedict Church 2020 Chestnut Hill Road  Mohnton PA 19540
GEO:40.2076917;-75.9108478
END:VEVENT
END:VCALENDAR