BEGIN:VCALENDAR
VERSION:2.0
PRODID:-//Tukios.com/
BEGIN:VEVENT
UID:11da416f-2555-4f5c-8b98-0149a2124749@www.kuhnfuneralhomes.com
DTSTAMP:20260422T235737Z
DTSTART:20260504T143000Z
DTEND:20260504T153000Z
SUMMARY:Mass
DESCRIPTION:
URL:https://www.kuhnfuneralhomes.com/obituaries/james-sutton
LOCATION:St John Neumann Church 620 N Bestgate Rd  Annapolis MD 21401
GEO:38.9985752;-76.5214703
END:VEVENT
END:VCALENDAR