BEGIN:VCALENDAR
VERSION:2.0
PRODID:-//Tukios.com/
BEGIN:VEVENT
UID:b19ec27a-1ebd-4c68-81a2-ba6c48422862@www.kuhnfuneralhomes.com
DTSTAMP:20260424T190400Z
DTSTART:20260427T210000Z
DTEND:20260427T220000Z
SUMMARY:Public Visitation
DESCRIPTION:
URL:https://www.kuhnfuneralhomes.com/obituaries/gerhard-a-weis
LOCATION:Edward J. Kuhn Funeral Home, inc 739 Penn Avenue  West Reading 
	PA 19611
GEO:40.3361933;-75.9533547
END:VEVENT
END:VCALENDAR