BEGIN:VCALENDAR
VERSION:2.0
PRODID:-//Tukios.com/
BEGIN:VEVENT
UID:5825a6e2-a35d-4191-b3c9-1974adb49bcc@www.kuhnfuneralhomes.com
DTSTAMP:20260424T185732Z
DTSTART:20260427T220000Z
DTEND:20260427T230000Z
SUMMARY:Funeral Service
DESCRIPTION:
URL:https://www.kuhnfuneralhomes.com/obituaries/gerhard-a-weis
LOCATION:Edward J. Kuhn Funeral Home, inc 739 Penn Avenue  West Reading 
	PA 19611
GEO:40.3361933;-75.9533547
END:VEVENT
END:VCALENDAR