BEGIN:VCALENDAR
VERSION:2.0
PRODID:-//Tukios.com/
BEGIN:VEVENT
UID:34a6c42a-484a-466e-8788-3bec06af1f31@www.kuhnfuneralhomes.com
DTSTAMP:20260421T184347Z
DTSTART:20260428T140000Z
DTEND:20260428T160000Z
SUMMARY:Public Viewing
DESCRIPTION:
URL:https://www.kuhnfuneralhomes.com/obituaries/christine-frances-mieczkowski
LOCATION:Edward J. Kuhn Funeral Home, inc 739 Penn Avenue  West Reading 
	PA 19611
GEO:40.3361933;-75.9533547
END:VEVENT
END:VCALENDAR