BEGIN:VCALENDAR
VERSION:2.0
PRODID:-//Tukios.com/
BEGIN:VEVENT
UID:7691ad05-2112-4eb9-9635-d247bc343f5b@www.kuhnfuneralhomes.com
DTSTAMP:20260421T184348Z
DTSTART:20260428T160000Z
DTEND:20260428T170000Z
SUMMARY:Funeral Service
DESCRIPTION:
URL:https://www.kuhnfuneralhomes.com/obituaries/christine-frances-mieczkowski
LOCATION:Edward J. Kuhn Funeral Home, inc 739 Penn Avenue  West Reading 
	PA 19611
GEO:40.3361933;-75.9533547
END:VEVENT
END:VCALENDAR